BEGIN:VCALENDAR
VERSION:2.0
PRODID:-//wp-events-plugin.com//7.2.2.1//EN
BEGIN:VEVENT
UID:588@lovewokingham.co.uk
DTSTART;TZID=Europe/London:20240503T120000
DTEND;TZID=Europe/London:20240506T230000
DTSTAMP:20240430T195229Z
URL:https://www.lovewokingham.co.uk/events/the-crispin-beer-festival
SUMMARY:The Crispin Beer Festival
DESCRIPTION:\nThe Crispin will be holding their second BEER FESTIVAL over t
 his Bank Holiday Weekend 3rd to 6th May.\n\n\nThere will be up to 10 cask 
 ales available - 5 on the bar and 5 in the garden and 5 still ciders.\n\n\
 nThey will also have 'The Gas Trick Band' playing live on Sunday afternoon
 .\nAll welcome\n
ATTACH;FMTTYPE=image/jpeg:https://www.lovewokingham.co.uk/wp-content/uploa
 ds/2024/04/438160449_852100540293496_2912321744861268593_n.jpg
CATEGORIES:Mailchimp Events
LOCATION:The Crispin\, 45 Denmark Street \, Wokingham\, United Kingdom
GEO:51.408681;-0.835855
X-APPLE-STRUCTURED-LOCATION;VALUE=URI;X-ADDRESS=45 Denmark Street \, Woking
 ham\, United Kingdom;X-APPLE-RADIUS=100;X-TITLE=The Crispin:geo:51.408681,
 -0.835855
END:VEVENT
BEGIN:VTIMEZONE
TZID:Europe/London
X-LIC-LOCATION:Europe/London
BEGIN:DAYLIGHT
DTSTART:20240331T020000
TZOFFSETFROM:+0000
TZOFFSETTO:+0100
TZNAME:BST
END:DAYLIGHT
END:VTIMEZONE
END:VCALENDAR