BEGIN:VCALENDAR
VERSION:2.0
PRODID:-//wp-events-plugin.com//7.2.2.1//EN
BEGIN:VEVENT
UID:89@lovewokingham.co.uk
DTSTART;TZID=Europe/London:20211118T193000
DTEND;TZID=Europe/London:20211118T213000
DTSTAMP:20210930T155150Z
URL:https://www.lovewokingham.co.uk/events/the-father-12a
SUMMARY:The Father (12A)
DESCRIPTION:Anthony Hopkins won the 2021 Best Actor Oscar for his portrayal
  of an ageing father refusing all assistance from his daughter (Olivia Col
 eman).\nAs he tries to make sense of his changing circumstances\, he begin
 s to doubt his loved ones\, his own mind and even the fabric of his realit
 y.\nNot to be missed!\n\nTickets: http://www.ticketsource.co.uk/wfs
ATTACH;FMTTYPE=image/jpeg:https://www.lovewokingham.co.uk/wp-content/uploa
 ds/2021/09/thefather.jpg
CATEGORIES:Mailchimp Events
LOCATION:The Whitty Theatre\, Luckley Road\, Wokingham\, Berkshire\, RG403E
 U\, United Kingdom
GEO:51.398838;-0.839821
X-APPLE-STRUCTURED-LOCATION;VALUE=URI;X-ADDRESS=Luckley Road\, Wokingham\, 
 Berkshire\, RG403EU\, United Kingdom;X-APPLE-RADIUS=100;X-TITLE=The Whitty
  Theatre:geo:51.398838,-0.839821
END:VEVENT
BEGIN:VTIMEZONE
TZID:Europe/London
X-LIC-LOCATION:Europe/London
BEGIN:STANDARD
DTSTART:20211031T010000
TZOFFSETFROM:+0100
TZOFFSETTO:+0000
TZNAME:GMT
END:STANDARD
END:VTIMEZONE
END:VCALENDAR