BEGIN:VCALENDAR
VERSION:2.0
PRODID:-//wp-events-plugin.com//7.2.2.1//EN
BEGIN:VEVENT
UID:150@lovewokingham.co.uk
DTSTART;TZID=Europe/London:20221201T193000
DTEND;TZID=Europe/London:20221201T230000
DTSTAMP:20221130T122709Z
URL:https://www.lovewokingham.co.uk/events/the-french-dispatch-15-wokingha
 m-film-society
SUMMARY:The French Dispatch (15) - Wokingham Film Society
DESCRIPTION:Wes Anderson (Grand Budapest Hotel) directs an all star cast in
  his tribute to journalism and to his adopted country\, France. The story 
 of the production of the last edition of the titular magazine via stories 
 that it will feature.\n“...utterly exquisite…” Clarisse Loughrey\, I
 ndependent\n\nTickets: https://www.ticketsource.co.uk/wfs\n
ATTACH;FMTTYPE=image/jpeg:https://www.lovewokingham.co.uk/wp-content/uploa
 ds/2022/11/MV5BNmQxZTNiODYtNzBhYy00MzVlLWJlN2UtNTc4YWZjMDIwMmEzXkEyXkFqcGd
 eQXVyMTkxNjUyNQ@@._V1_.jpg
CATEGORIES:Mailchimp Events
LOCATION:The Whitty Theatre\, Luckley Road\, Wokingham\, Berkshire\, RG403E
 U\, United Kingdom
GEO:51.398838;-0.839821
X-APPLE-STRUCTURED-LOCATION;VALUE=URI;X-ADDRESS=Luckley Road\, Wokingham\, 
 Berkshire\, RG403EU\, United Kingdom;X-APPLE-RADIUS=100;X-TITLE=The Whitty
  Theatre:geo:51.398838,-0.839821
END:VEVENT
BEGIN:VTIMEZONE
TZID:Europe/London
X-LIC-LOCATION:Europe/London
BEGIN:STANDARD
DTSTART:20221030T010000
TZOFFSETFROM:+0100
TZOFFSETTO:+0000
TZNAME:GMT
END:STANDARD
END:VTIMEZONE
END:VCALENDAR