BEGIN:VCALENDAR
VERSION:2.0
PRODID:-//wp-events-plugin.com//7.2.2.1//EN
BEGIN:VEVENT
UID:94@lovewokingham.co.uk
DTSTART;TZID=Europe/London:20211022T190000
DTEND;TZID=Europe/London:20211022T224500
DTSTAMP:20211013T095309Z
URL:https://www.lovewokingham.co.uk/events/the-great-woky-pub-quiz
SUMMARY:The Great Woky Pub Quiz
DESCRIPTION:Our lockdown favourite is now LIVE and in-person
ATTACH;FMTTYPE=image/jpeg:https://www.lovewokingham.co.uk/wp-content/uploa
 ds/2021/10/pubquiz.jpg
CATEGORIES:Mailchimp Events
LOCATION:Wokingham Cricket Club\, The Pavilion\, Sadler’s End\, Sindlesha
 m\,  Wokingham\, Berkshire\, \, Wokingham\, RG41 5AW\, United Kingdom
GEO:51.421475;-0.868975
X-APPLE-STRUCTURED-LOCATION;VALUE=URI;X-ADDRESS=The Pavilion\, Sadler’s E
 nd\, Sindlesham\,  Wokingham\, Berkshire\, \, Wokingham\, RG41 5AW\, Unite
 d Kingdom;X-APPLE-RADIUS=100;X-TITLE=Wokingham Cricket Club:geo:51.421475,
 -0.868975
END:VEVENT
BEGIN:VTIMEZONE
TZID:Europe/London
X-LIC-LOCATION:Europe/London
BEGIN:DAYLIGHT
DTSTART:20210328T020000
TZOFFSETFROM:+0000
TZOFFSETTO:+0100
TZNAME:BST
END:DAYLIGHT
END:VTIMEZONE
END:VCALENDAR