BEGIN:VCALENDAR
VERSION:2.0
PRODID:-//wp-events-plugin.com//7.2.2.1//EN
BEGIN:VEVENT
UID:973@lovewokingham.co.uk
DTSTART;TZID=Europe/London:20251206T200000
DTEND;TZID=Europe/London:20251206T223000
DTSTAMP:20251119T123116Z
URL:https://www.lovewokingham.co.uk/events/the-greatest-show
SUMMARY:The Greatest Show
DESCRIPTION:Step right up… the circus is coming to The Pops!\nGet ready f
 or a spectacular night of live entertainment as DJ Maverick takes centre s
 tage for our Greatest Showman Night\nHe’s kicking off December in true s
 tyle — and trust us\, he’ll have The Pops vibing all night long!\nNot 
 only will he be performing all your favourite Greatest Showman hits\, but 
 he’ll become THE Greatest Showman himself — with incredible tributes t
 o legends like George Michael\, Freddie Mercury\, and more!\nThe perfect a
 ccompaniment for your festive party!
ATTACH;FMTTYPE=image/jpeg:https://www.lovewokingham.co.uk/wp-content/uploa
 ds/2025/11/568558843_1447975597338147_2369871039542211135_n.jpg
CATEGORIES:Mailchimp Events
LOCATION:The Two Poplars\, 118 Finchampstead Road\, Wokingham\, United King
 dom
GEO:51.402;-0.839985
X-APPLE-STRUCTURED-LOCATION;VALUE=URI;X-ADDRESS=118 Finchampstead Road\, Wo
 kingham\, United Kingdom;X-APPLE-RADIUS=100;X-TITLE=The Two Poplars:geo:51
 .402,-0.839985
END:VEVENT
BEGIN:VTIMEZONE
TZID:Europe/London
X-LIC-LOCATION:Europe/London
BEGIN:STANDARD
DTSTART:20251026T010000
TZOFFSETFROM:+0100
TZOFFSETTO:+0000
TZNAME:GMT
END:STANDARD
END:VTIMEZONE
END:VCALENDAR