BEGIN:VCALENDAR
VERSION:2.0
PRODID:-//wp-events-plugin.com//7.2.2.1//EN
BEGIN:VEVENT
UID:375@lovewokingham.co.uk
DTSTART;TZID=Europe/London:20231024T193000
DTEND;TZID=Europe/London:20231028T221500
DTSTAMP:20230926T151315Z
URL:https://www.lovewokingham.co.uk/events/the-masked-ball
SUMMARY:A Masked Ball
DESCRIPTION:Presented by Park Opera
ATTACH;FMTTYPE=image/jpeg:https://www.lovewokingham.co.uk/wp-content/uploa
 ds/2023/09/63949-16897561438087-m-e1695741184981.png
CATEGORIES:Mailchimp Events
LOCATION:The Whitty Theatre\, Luckley Road\, Wokingham\, Berkshire\, RG403E
 U\, United Kingdom
GEO:51.398838;-0.839821
X-APPLE-STRUCTURED-LOCATION;VALUE=URI;X-ADDRESS=Luckley Road\, Wokingham\, 
 Berkshire\, RG403EU\, United Kingdom;X-APPLE-RADIUS=100;X-TITLE=The Whitty
  Theatre:geo:51.398838,-0.839821
END:VEVENT
BEGIN:VTIMEZONE
TZID:Europe/London
X-LIC-LOCATION:Europe/London
BEGIN:DAYLIGHT
DTSTART:20230326T020000
TZOFFSETFROM:+0000
TZOFFSETTO:+0100
TZNAME:BST
END:DAYLIGHT
END:VTIMEZONE
END:VCALENDAR