BEGIN:VCALENDAR
VERSION:2.0
PRODID:-//wp-events-plugin.com//7.2.2.1//EN
BEGIN:VEVENT
UID:216@lovewokingham.co.uk
DTSTART;TZID=Europe/London:20230317T093000
DTEND;TZID=Europe/London:20230317T113000
DTSTAMP:20230228T115956Z
URL:https://www.lovewokingham.co.uk/events/the-mum-club-wokingham
SUMMARY:The Mum Club Wokingham
DESCRIPTION:At The Foundary Bell
ATTACH;FMTTYPE=image/jpeg:https://www.lovewokingham.co.uk/wp-content/uploa
 ds/2023/02/331935080_721931462914054_4041643842148826814_n.jpg
CATEGORIES:Mailchimp Events
LOCATION:The Foundary Bell\, London Road\, Wokingham\, Berkshire\,  RG40 1R
 D\, United Kingdom
X-APPLE-STRUCTURED-LOCATION;VALUE=URI;X-ADDRESS=London Road\, Wokingham\, B
 erkshire\,  RG40 1RD\, United Kingdom;X-APPLE-RADIUS=100;X-TITLE=The Found
 ary Bell:geo:0,0
END:VEVENT
BEGIN:VTIMEZONE
TZID:Europe/London
X-LIC-LOCATION:Europe/London
BEGIN:STANDARD
DTSTART:20221030T010000
TZOFFSETFROM:+0100
TZOFFSETTO:+0000
TZNAME:GMT
END:STANDARD
END:VTIMEZONE
END:VCALENDAR