BEGIN:VCALENDAR
VERSION:2.0
PRODID:-//wp-events-plugin.com//7.2.2.1//EN
BEGIN:VEVENT
UID:502@lovewokingham.co.uk
DTSTART;TZID=Europe/London:20240418T194500
DTEND;TZID=Europe/London:20240427T223000
DTSTAMP:20240130T110124Z
URL:https://www.lovewokingham.co.uk/events/the-pitmen-painters
SUMMARY:The Pitmen Painters
DESCRIPTION:A Wokingham Theatre Production\n\nWhen a group of coal miners b
 egin evening classes with a Master of Painting from Kings College Newcastl
 e\, they want to learn about art: what’s good\, what’s bad and what it
  all means. The Pitmen Painters takes you on an unforgettable journey from
  the depths of the mine to the heights of fame.\n\nTickets £16 https://u
 k.patronbase.com/_WokinghamTheatre/Productions/TPP/Performances
ATTACH;FMTTYPE=image/jpeg:https://www.lovewokingham.co.uk/wp-content/uploa
 ds/2024/01/Square-6-1024x1024-1.png
CATEGORIES:Mailchimp Events
LOCATION:Wokingham Theatre\, Twyford Road\, Wokingham\, Berkshire\, RG405TU
 \, United Kingdom
GEO:51.420902;-0.840946
X-APPLE-STRUCTURED-LOCATION;VALUE=URI;X-ADDRESS=Twyford Road\, Wokingham\, 
 Berkshire\, RG405TU\, United Kingdom;X-APPLE-RADIUS=100;X-TITLE=Wokingham 
 Theatre:geo:51.420902,-0.840946
END:VEVENT
BEGIN:VTIMEZONE
TZID:Europe/London
X-LIC-LOCATION:Europe/London
BEGIN:DAYLIGHT
DTSTART:20240331T020000
TZOFFSETFROM:+0000
TZOFFSETTO:+0100
TZNAME:BST
END:DAYLIGHT
END:VTIMEZONE
END:VCALENDAR