BEGIN:VCALENDAR
VERSION:2.0
PRODID:-//wp-events-plugin.com//7.2.2.1//EN
BEGIN:VEVENT
UID:501@lovewokingham.co.uk
DTSTART;TZID=Europe/London:20240314T194500
DTEND;TZID=Europe/London:20240323T223000
DTSTAMP:20240130T105834Z
URL:https://www.lovewokingham.co.uk/events/the-prime-of-miss-jean-brodie
SUMMARY:The Prime of Miss Jean Brodie
DESCRIPTION:A Wokingham Theatre Production\n\nA dramatic exploration of a c
 harismatic and unconventional schoolteacher’s impact on her students in 
 1930s Edinburgh. Miss Jean Brodie\, with her unorthodox teaching methods a
 nd romantic notions of life\, becomes a mentor and muse to a group of girl
 s\, but her influence also leads them down dangerous paths. As her methods
  are called into question and her personal life is exposed\, Miss Brodie
 ’s downfall becomes inevitable. With nuance characters and a haunting se
 nse of loss\, The Prime of Miss Jean Brodie is a powerful examination of 
 the power dynamics of education and the consequences of blind devotion.\n\
 nTickets £16 https://uk.patronbase.com/_WokinghamTheatre/Productions/MJB
 /Performances
ATTACH;FMTTYPE=image/jpeg:https://www.lovewokingham.co.uk/wp-content/uploa
 ds/2024/01/Square-5-1024x1024-1.png
CATEGORIES:Mailchimp Events
LOCATION:Wokingham Theatre\, Twyford Road\, Wokingham\, Berkshire\, RG405TU
 \, United Kingdom
GEO:51.420902;-0.840946
X-APPLE-STRUCTURED-LOCATION;VALUE=URI;X-ADDRESS=Twyford Road\, Wokingham\, 
 Berkshire\, RG405TU\, United Kingdom;X-APPLE-RADIUS=100;X-TITLE=Wokingham 
 Theatre:geo:51.420902,-0.840946
END:VEVENT
BEGIN:VTIMEZONE
TZID:Europe/London
X-LIC-LOCATION:Europe/London
BEGIN:STANDARD
DTSTART:20231029T010000
TZOFFSETFROM:+0100
TZOFFSETTO:+0000
TZNAME:GMT
END:STANDARD
END:VTIMEZONE
END:VCALENDAR