BEGIN:VCALENDAR
VERSION:2.0
PRODID:-//wp-events-plugin.com//7.2.2.1//EN
BEGIN:VEVENT
UID:789@lovewokingham.co.uk
DTSTART;TZID=Europe/London:20250204T193000
DTEND;TZID=Europe/London:20250204T223000
DTSTAMP:20250130T093534Z
URL:https://www.lovewokingham.co.uk/events/the-rose-monthly-quiz-night
SUMMARY:The Rose Monthly Quiz Night
DESCRIPTION:First Tuesday of every month
ATTACH;FMTTYPE=image/jpeg:https://www.lovewokingham.co.uk/wp-content/uploa
 ds/2024/09/rose-quiz.jpg
CATEGORIES:Mailchimp Events
LOCATION:The Rose Inn\, Market Place\, Wokingham\, Berkshire\, RG40 1AS\, U
 nited Kingdom
X-APPLE-STRUCTURED-LOCATION;VALUE=URI;X-ADDRESS=Market Place\, Wokingham\, 
 Berkshire\, RG40 1AS\, United Kingdom;X-APPLE-RADIUS=100;X-TITLE=The Rose 
 Inn:geo:0,0
END:VEVENT
BEGIN:VTIMEZONE
TZID:Europe/London
X-LIC-LOCATION:Europe/London
BEGIN:STANDARD
DTSTART:20241027T010000
TZOFFSETFROM:+0100
TZOFFSETTO:+0000
TZNAME:GMT
END:STANDARD
END:VTIMEZONE
END:VCALENDAR