BEGIN:VCALENDAR
VERSION:2.0
PRODID:-//wp-events-plugin.com//7.2.2.1//EN
BEGIN:VEVENT
UID:163@lovewokingham.co.uk
DTSTART;TZID=Europe/London:20221217T180000
DTEND;TZID=Europe/London:20221217T200000
DTSTAMP:20221130T172023Z
URL:https://www.lovewokingham.co.uk/events/the-snowman-in-concert
SUMMARY:The Snowman in concert
DESCRIPTION:In support of Share Wokingham
ATTACH;FMTTYPE=image/jpeg:https://www.lovewokingham.co.uk/wp-content/uploa
 ds/2022/11/312400655_531936042272737_3886679125915988308_n-e1669828790788.
 jpg
CATEGORIES:Mailchimp Events
LOCATION:Wokingham Baptist Church\, Milton Road\, Wokingham\, Berkshire\, R
 G40 1DE\, United Kingdom
X-APPLE-STRUCTURED-LOCATION;VALUE=URI;X-ADDRESS=Milton Road\, Wokingham\, B
 erkshire\, RG40 1DE\, United Kingdom;X-APPLE-RADIUS=100;X-TITLE=Wokingham 
 Baptist Church:geo:0,0
END:VEVENT
BEGIN:VTIMEZONE
TZID:Europe/London
X-LIC-LOCATION:Europe/London
BEGIN:STANDARD
DTSTART:20221030T010000
TZOFFSETFROM:+0100
TZOFFSETTO:+0000
TZNAME:GMT
END:STANDARD
END:VTIMEZONE
END:VCALENDAR