BEGIN:VCALENDAR
VERSION:2.0
PRODID:-//wp-events-plugin.com//7.2.2.1//EN
BEGIN:VEVENT
UID:897@lovewokingham.co.uk
DTSTART;TZID=Europe/London:20250802T110000
DTEND;TZID=Europe/London:20250802T124500
DTSTAMP:20250716T134707Z
URL:https://www.lovewokingham.co.uk/events/theatre-in-the-park-sleeping-be
 auty
SUMMARY:Theatre in the Park - Sleeping Beauty
DESCRIPTION:Performances at 11am and 2pm\n\nJoin us for free\, fun\, family
  theatre in the park. This year it’s Sleeping Beauty.\n\nThis summer pan
 to fairy tale features up beat songs and lots of comedy as good and evil w
 itches go to battle over a curse. Will true love win the day? You’ll hav
 e to come to Elms Field and find out.\nHot on the heels of the smash hit J
 ack and the Beanstalk\, Bart Lee Theatre return with a new show that will 
 entertain all ages from 3 – 103!\nBest news of all\, it’s free!\nPerfo
 rmances start 11am and 2pm with a warm up act\, the main event starts at h
 alf past the hour.\n\nBring chairs or picnic blankets and enjoy the show.\
 nThere will be an interval mid way through the performance. The play lasts
  around 90 minutes not including the interval.\nPicnic blankets and campin
 g chairs are welcome. Please do not bring gazebos as they can block the vi
 ew of others and create a hazard\nDogs are allowed on site but must be lea
 shed around the performance space
ATTACH;FMTTYPE=image/jpeg:https://www.lovewokingham.co.uk/wp-content/uploa
 ds/2025/07/492927098_1032813315703320_4236971400010027312_n-e1752673299727
 .jpg
CATEGORIES:Mailchimp Events
LOCATION:Elms Field\, Earle Cresent\, Wokingham\, RG40 1DE\, United Kingdom
X-APPLE-STRUCTURED-LOCATION;VALUE=URI;X-ADDRESS=Earle Cresent\, Wokingham\,
  RG40 1DE\, United Kingdom;X-APPLE-RADIUS=100;X-TITLE=Elms Field:geo:0,0
END:VEVENT
BEGIN:VTIMEZONE
TZID:Europe/London
X-LIC-LOCATION:Europe/London
BEGIN:DAYLIGHT
DTSTART:20250330T020000
TZOFFSETFROM:+0000
TZOFFSETTO:+0100
TZNAME:BST
END:DAYLIGHT
END:VTIMEZONE
END:VCALENDAR