BEGIN:VCALENDAR
VERSION:2.0
PRODID:-//wp-events-plugin.com//7.2.2.1//EN
BEGIN:VEVENT
UID:906@lovewokingham.co.uk
DTSTART;TZID=Europe/London:20251103T193000
DTEND;TZID=Europe/London:20251103T223000
DTSTAMP:20250904T092650Z
URL:https://www.lovewokingham.co.uk/events/town-mayors-quiz-night
SUMMARY:Town Mayor's Quiz Night
DESCRIPTION:Think you’ve got what it takes to be the quiz champ?\n\nIt’
 s time to gather your dream team (or fly solo and make some new friends!) 
 for an epic night of trivia\, and fundraising!\n\nTickets: £12 – all pr
 oceeds go to the Town Mayor’s chosen charity CLASP\n\n\nBook here https
 ://www.trybooking.com/uk/events/landing/91779\n\n\nTables of 8 (come as a 
 team\, small group\, or individual – we’ll match you up!)\n\nWhat’s 
 in store?\nRaffle prizes up for grabs\nBring your own drinks &amp\; nibble
 s\nA great night out for a great cause!\n\n\n\n
ATTACH;FMTTYPE=image/jpeg:https://www.lovewokingham.co.uk/wp-content/uploa
 ds/2025/09/Quiz.png
CATEGORIES:Mailchimp Events
LOCATION:Wokingham Town Hall\, Market Place\, Wokingham\, Berkshire\, RG40 
 1AS\, United Kingdom
X-APPLE-STRUCTURED-LOCATION;VALUE=URI;X-ADDRESS=Market Place\, Wokingham\, 
 Berkshire\, RG40 1AS\, United Kingdom;X-APPLE-RADIUS=100;X-TITLE=Wokingham
  Town Hall:geo:0,0
END:VEVENT
BEGIN:VTIMEZONE
TZID:Europe/London
X-LIC-LOCATION:Europe/London
BEGIN:STANDARD
DTSTART:20251026T010000
TZOFFSETFROM:+0100
TZOFFSETTO:+0000
TZNAME:GMT
END:STANDARD
END:VTIMEZONE
END:VCALENDAR