BEGIN:VCALENDAR
VERSION:2.0
PRODID:-//wp-events-plugin.com//7.2.2.1//EN
BEGIN:VEVENT
UID:528@lovewokingham.co.uk
DTSTART;TZID=Europe/London:20240424T180000
DTEND;TZID=Europe/London:20240424T200000
DTSTAMP:20240228T103404Z
URL:https://www.lovewokingham.co.uk/events/trinity-concert-band-spring-con
 cert
SUMMARY:Trinity Concert Band Spring Concert
DESCRIPTION:\n\n\n\n\n\n\n\n\n\n\n\n\n\n\nJoin Reading’s Trinity Concert 
 Band for our first concert of 2024!\n\n\n\n\n\n\nExpect a dazzling evening
  of iconic classical music\, famous numbers from stage and screen and much
  more! Highlights to include:\n- March from the film ‘1941’\n- 76 Trom
 bones from the musical ‘The Music Man’\n- Harry Potter\n- Benedictus f
 rom ‘The Armed Man’\n- Great Gate of Kiev from ‘Pictures from an Exh
 ibition’\n- Sure on this Shining Night\nA portion of concert proceeds wi
 ll go to the band’s chosen charity for 2024\, Stepping Stones DS – sup
 porting children &amp\; young people with Down syndrome to fulfil their po
 tential\nTickets are on sale now. If you've never been to one of their con
 certs\, you can claim your free ticket from their box office!\nTickts £13
  adults/£7 student https://www.trinityband.co.uk/spring-concert/\n\n
ATTACH;FMTTYPE=image/jpeg:https://www.lovewokingham.co.uk/wp-content/uploa
 ds/2024/02/424952775_874796581322507_4447787710810653082_n.jpg
CATEGORIES:Mailchimp Events
LOCATION:All Saints Church\, Wiltshire Road\, Wokingham\, Berkshire\, RG401
 TN\, United Kingdom
GEO:51.412502;-0.829743
X-APPLE-STRUCTURED-LOCATION;VALUE=URI;X-ADDRESS=Wiltshire Road\, Wokingham\
 , Berkshire\, RG401TN\, United Kingdom;X-APPLE-RADIUS=100;X-TITLE=All Sain
 ts Church:geo:51.412502,-0.829743
END:VEVENT
BEGIN:VTIMEZONE
TZID:Europe/London
X-LIC-LOCATION:Europe/London
BEGIN:DAYLIGHT
DTSTART:20240331T020000
TZOFFSETFROM:+0000
TZOFFSETTO:+0100
TZNAME:BST
END:DAYLIGHT
END:VTIMEZONE
END:VCALENDAR