BEGIN:VCALENDAR
VERSION:2.0
PRODID:-//wp-events-plugin.com//7.2.2.1//EN
BEGIN:VEVENT
UID:274@lovewokingham.co.uk
DTSTART;TZID=Europe/London:20230609T120000
DTEND;TZID=Europe/London:20230610T220000
DTSTAMP:20230518T082605Z
URL:https://www.lovewokingham.co.uk/events/twyford-beer-festival-2
SUMMARY:Twyford Beer Festival
DESCRIPTION:Family friendly
ATTACH;FMTTYPE=image/jpeg:https://www.lovewokingham.co.uk/wp-content/uploa
 ds/2023/05/Copy-of-Untitled-18.png
CATEGORIES:Mailchimp Events
LOCATION:Stanlake Meadows\, Waltham Road\, Twyford\, RG10 0AB\, United King
 dom
X-APPLE-STRUCTURED-LOCATION;VALUE=URI;X-ADDRESS=Waltham Road\, Twyford\, RG
 10 0AB\, United Kingdom;X-APPLE-RADIUS=100;X-TITLE=Stanlake Meadows:geo:0,
 0
END:VEVENT
BEGIN:VTIMEZONE
TZID:Europe/London
X-LIC-LOCATION:Europe/London
BEGIN:DAYLIGHT
DTSTART:20230326T020000
TZOFFSETFROM:+0000
TZOFFSETTO:+0100
TZNAME:BST
END:DAYLIGHT
END:VTIMEZONE
END:VCALENDAR