BEGIN:VCALENDAR
VERSION:2.0
PRODID:-//wp-events-plugin.com//7.2.2.1//EN
BEGIN:VEVENT
UID:115@lovewokingham.co.uk
DTSTART;TZID=Europe/London:20220610T120000
DTEND;TZID=Europe/London:20220611T220000
DTSTAMP:20220525T130633Z
URL:https://www.lovewokingham.co.uk/events/twyford-beer-festival
SUMMARY:Twyford Beer Festival
DESCRIPTION:Beer Festival with live music
ATTACH;FMTTYPE=image/jpeg:https://www.lovewokingham.co.uk/wp-content/uploa
 ds/2022/05/272876437_3114754002145602_8776025399430466959_n-e1653483978883
 .jpg
LOCATION:Stanlake Meadows\, Waltham Road\, Twyford\, RG10 0AB\, United King
 dom
X-APPLE-STRUCTURED-LOCATION;VALUE=URI;X-ADDRESS=Waltham Road\, Twyford\, RG
 10 0AB\, United Kingdom;X-APPLE-RADIUS=100;X-TITLE=Stanlake Meadows:geo:0,
 0
END:VEVENT
BEGIN:VTIMEZONE
TZID:Europe/London
X-LIC-LOCATION:Europe/London
BEGIN:DAYLIGHT
DTSTART:20220327T020000
TZOFFSETFROM:+0000
TZOFFSETTO:+0100
TZNAME:BST
END:DAYLIGHT
END:VTIMEZONE
END:VCALENDAR