BEGIN:VCALENDAR
VERSION:2.0
PRODID:-//wp-events-plugin.com//7.2.2.1//EN
BEGIN:VEVENT
UID:654@lovewokingham.co.uk
DTSTART;TZID=Europe/London:20240818T100000
DTEND;TZID=Europe/London:20240818T150000
DTSTAMP:20240801T102423Z
URL:https://www.lovewokingham.co.uk/events/u5s-fun-day
SUMMARY:U5's Fun Day
DESCRIPTION:Holme Grange Craft Village presents the annual under 5's Fun Da
 y! hosted by JL Events.\nShowcasing the best of Berkshires children's prov
 iders all in one place.\n£2 entry per adult\, under 16's free.
ATTACH;FMTTYPE=image/jpeg:https://www.lovewokingham.co.uk/wp-content/uploa
 ds/2024/07/u5s.jpg
CATEGORIES:Mailchimp Events
LOCATION:Holme Grange Craft Village\, Heathlands Road\, Wokingham\, Berkshi
 re\, United Kingdom
X-APPLE-STRUCTURED-LOCATION;VALUE=URI;X-ADDRESS=Heathlands Road\, Wokingham
 \, Berkshire\, United Kingdom;X-APPLE-RADIUS=100;X-TITLE=Holme Grange Craf
 t Village:geo:0,0
END:VEVENT
BEGIN:VTIMEZONE
TZID:Europe/London
X-LIC-LOCATION:Europe/London
BEGIN:DAYLIGHT
DTSTART:20240331T020000
TZOFFSETFROM:+0000
TZOFFSETTO:+0100
TZNAME:BST
END:DAYLIGHT
END:VTIMEZONE
END:VCALENDAR