BEGIN:VCALENDAR
VERSION:2.0
PRODID:-//wp-events-plugin.com//7.2.2.1//EN
BEGIN:VEVENT
UID:138@lovewokingham.co.uk
DTSTART;TZID=Europe/London:20221119T074500
DTEND;TZID=Europe/London:20221119T104500
DTSTAMP:20221013T134835Z
URL:https://www.lovewokingham.co.uk/events/ultinate-elton-the-rocket-band-
 plus-the-police-academy
SUMMARY:Ultimate Elton / The Police Academy
DESCRIPTION:ickets won't hang around for long so book soon
ATTACH;FMTTYPE=image/jpeg:https://www.lovewokingham.co.uk/wp-content/uploa
 ds/2022/10/WADEInstagramv2-2.png
CATEGORIES:Mailchimp Events
LOCATION:The Carnival Hub\, Wellington Road \, Wokingham\, RG40 2AF\, Unite
 d Kingdom
X-APPLE-STRUCTURED-LOCATION;VALUE=URI;X-ADDRESS=Wellington Road \, Wokingha
 m\, RG40 2AF\, United Kingdom;X-APPLE-RADIUS=100;X-TITLE=The Carnival Hub:
 geo:0,0
END:VEVENT
BEGIN:VTIMEZONE
TZID:Europe/London
X-LIC-LOCATION:Europe/London
BEGIN:STANDARD
DTSTART:20221030T010000
TZOFFSETFROM:+0100
TZOFFSETTO:+0000
TZNAME:GMT
END:STANDARD
END:VTIMEZONE
END:VCALENDAR