BEGIN:VCALENDAR
VERSION:2.0
PRODID:-//wp-events-plugin.com//7.2.2.1//EN
BEGIN:VEVENT
UID:548@lovewokingham.co.uk
DTSTART;TZID=Europe/London:20240531T193000
DTEND;TZID=Europe/London:20240531T223000
DTSTAMP:20240331T163759Z
URL:https://www.lovewokingham.co.uk/events/very-beautiful-south-in-concert
SUMMARY:Very Beautiful South in Concert
DESCRIPTION:Very Beautiful South are the UKs most authentic tribute to The 
 Beautiful South and the genius songwriting partnership of Paul Heaton &amp
 \; David Rotheray.\nVery Beautiful South are the perfect tribute band for 
 festivals\, clubs and theatres across the UK – playing hit after hit of 
 ‘Sing-Along-A-South’ classics – all lovingly recreated to transport 
 you back into the heady days of Hull’s alternative pop-rock sound of qui
 rky lyrics and catchy melodies.\nhttps://www.ticketsource.co.uk/wokinghamm
 usicclub
ATTACH;FMTTYPE=image/jpeg:https://www.lovewokingham.co.uk/wp-content/uploa
 ds/2024/03/18018-16991182293444-m.png
CATEGORIES:Mailchimp Events
LOCATION:The Whitty Theatre\, Luckley Road\, Wokingham\, Berkshire\, RG403E
 U\, United Kingdom
GEO:51.398838;-0.839821
X-APPLE-STRUCTURED-LOCATION;VALUE=URI;X-ADDRESS=Luckley Road\, Wokingham\, 
 Berkshire\, RG403EU\, United Kingdom;X-APPLE-RADIUS=100;X-TITLE=The Whitty
  Theatre:geo:51.398838,-0.839821
END:VEVENT
BEGIN:VTIMEZONE
TZID:Europe/London
X-LIC-LOCATION:Europe/London
BEGIN:DAYLIGHT
DTSTART:20240331T020000
TZOFFSETFROM:+0000
TZOFFSETTO:+0100
TZNAME:BST
END:DAYLIGHT
END:VTIMEZONE
END:VCALENDAR