BEGIN:VCALENDAR
VERSION:2.0
PRODID:-//wp-events-plugin.com//7.2.2.1//EN
BEGIN:VEVENT
UID:866@lovewokingham.co.uk
DTSTART;TZID=Europe/London:20250605T100000
DTEND;TZID=Europe/London:20250605T120000
DTSTAMP:20250529T204546Z
URL:https://www.lovewokingham.co.uk/events/volunteer-recruitment-fair-3
SUMMARY:Volunteer Recruitment Fair
DESCRIPTION:Are you interested in volunteering in Wokingham borough\, but u
 nsure where to start?\n\nPop along to the fair to find out more about the 
 opportunities locally\n\nAt Space for All - All Saints Church\n\nRun by Wo
 kingham Volunteer Centre
ATTACH;FMTTYPE=image/jpeg:https://www.lovewokingham.co.uk/wp-content/uploa
 ds/2025/05/494569131_705305031878322_5006563510828324519_n.jpg
CATEGORIES:Mailchimp Events
LOCATION:All Saints Church\, Wiltshire Road\, Wokingham\, Berkshire\, RG401
 TN\, United Kingdom
GEO:51.412502;-0.829743
X-APPLE-STRUCTURED-LOCATION;VALUE=URI;X-ADDRESS=Wiltshire Road\, Wokingham\
 , Berkshire\, RG401TN\, United Kingdom;X-APPLE-RADIUS=100;X-TITLE=All Sain
 ts Church:geo:51.412502,-0.829743
END:VEVENT
BEGIN:VTIMEZONE
TZID:Europe/London
X-LIC-LOCATION:Europe/London
BEGIN:DAYLIGHT
DTSTART:20250330T020000
TZOFFSETFROM:+0000
TZOFFSETTO:+0100
TZNAME:BST
END:DAYLIGHT
END:VTIMEZONE
END:VCALENDAR