BEGIN:VCALENDAR
VERSION:2.0
PRODID:-//wp-events-plugin.com//7.2.2.1//EN
BEGIN:VEVENT
UID:90@lovewokingham.co.uk
DTSTART;TZID=Europe/London:20211127T110000
DTEND;TZID=Europe/London:20211127T140000
DTSTAMP:20210930T154046Z
URL:https://www.lovewokingham.co.uk/events/wade-christmas-fair
SUMMARY:WADE Christmas Fair
DESCRIPTION:Saturday 27th November 2021\n11am-2pm\nCome along for a fun day
  out. Wade Day Centre\, 40 Reading Road\, Wokingham\, RG41 1EH\nAdults £1
 /Children Free\nVarious stalls\, tombolas\, raffles and Christmas gifts\nF
 ree parking at the Masonic Hall (opposite)\nAll proceeds to Wade
ATTACH;FMTTYPE=image/jpeg:https://www.lovewokingham.co.uk/wp-content/uploa
 ds/2021/09/Wade-Christmas-Fair-2021-Poster-page-0-scaled.jpg
CATEGORIES:Mailchimp Events
LOCATION:Wade Day Care Centre\, 40 Reading Road\, Wokingham\, Berkshire\, R
 G41 1EH\, United Kingdom
X-APPLE-STRUCTURED-LOCATION;VALUE=URI;X-ADDRESS=40 Reading Road\, Wokingham
 \, Berkshire\, RG41 1EH\, United Kingdom;X-APPLE-RADIUS=100;X-TITLE=Wade D
 ay Care Centre:geo:0,0
END:VEVENT
BEGIN:VTIMEZONE
TZID:Europe/London
X-LIC-LOCATION:Europe/London
BEGIN:STANDARD
DTSTART:20211031T010000
TZOFFSETFROM:+0100
TZOFFSETTO:+0000
TZNAME:GMT
END:STANDARD
END:VTIMEZONE
END:VCALENDAR