BEGIN:VCALENDAR
VERSION:2.0
PRODID:-//wp-events-plugin.com//7.2.2.1//EN
BEGIN:VEVENT
UID:57@lovewokingham.co.uk
DTSTART;TZID=Europe/London:20210703T110000
DTEND;TZID=Europe/London:20210703T140000
DTSTAMP:20210506T102338Z
URL:https://www.lovewokingham.co.uk/events/wade-summer-fayre
SUMMARY:WADE Summer Fayre
DESCRIPTION:Plenty of stalls\, tombolas\, plant sale\, raffles\, live music
  from a local Ukulele band and let's not forget the BBQ.
ATTACH;FMTTYPE=image/jpeg:https://www.lovewokingham.co.uk/wp-content/uploa
 ds/2021/05/wadesummerfair2021.png
CATEGORIES:Mailchimp Events
LOCATION:Wade Day Care Centre\, 40 Reading Road\, Wokingham\, Berkshire\, R
 G41 1EH\, United Kingdom
X-APPLE-STRUCTURED-LOCATION;VALUE=URI;X-ADDRESS=40 Reading Road\, Wokingham
 \, Berkshire\, RG41 1EH\, United Kingdom;X-APPLE-RADIUS=100;X-TITLE=Wade D
 ay Care Centre:geo:0,0
END:VEVENT
BEGIN:VTIMEZONE
TZID:Europe/London
X-LIC-LOCATION:Europe/London
BEGIN:DAYLIGHT
DTSTART:20210328T020000
TZOFFSETFROM:+0000
TZOFFSETTO:+0100
TZNAME:BST
END:DAYLIGHT
END:VTIMEZONE
END:VCALENDAR