BEGIN:VCALENDAR
VERSION:2.0
PRODID:-//wp-events-plugin.com//7.2.2.1//EN
BEGIN:VEVENT
UID:377@lovewokingham.co.uk
DTSTART;TZID=Europe/London:20231002T200000
DTEND;TZID=Europe/London:20231002T220000
DTSTAMP:20230926T150559Z
URL:https://www.lovewokingham.co.uk/events/weekly-quiz-night-at-sedero-lou
 nge
SUMMARY:Weekly Quiz Night at Sedero Lounge
DESCRIPTION:Every Monday 8-10pm
ATTACH;FMTTYPE=image/jpeg:https://www.lovewokingham.co.uk/wp-content/uploa
 ds/2023/09/330791379_1863463020692980_8351106001662673063_n-1.jpg
CATEGORIES:Mailchimp Events
LOCATION:Sedero Lounge\, Bailey's House\, Central Walk\, Wokingham\, Berksh
 ire\, RG40 1AZ\, United Kingdom
X-APPLE-STRUCTURED-LOCATION;VALUE=URI;X-ADDRESS=Bailey's House\, Central Wa
 lk\, Wokingham\, Berkshire\, RG40 1AZ\, United Kingdom;X-APPLE-RADIUS=100;
 X-TITLE=Sedero Lounge:geo:0,0
END:VEVENT
BEGIN:VTIMEZONE
TZID:Europe/London
X-LIC-LOCATION:Europe/London
BEGIN:DAYLIGHT
DTSTART:20230326T020000
TZOFFSETFROM:+0000
TZOFFSETTO:+0100
TZNAME:BST
END:DAYLIGHT
END:VTIMEZONE
END:VCALENDAR