BEGIN:VCALENDAR
VERSION:2.0
PRODID:-//wp-events-plugin.com//7.2.2.1//EN
BEGIN:VEVENT
UID:902@lovewokingham.co.uk
DTSTART;TZID=Europe/London:20250930T190000
DTEND;TZID=Europe/London:20250930T203000
DTSTAMP:20250831T124320Z
URL:https://www.lovewokingham.co.uk/events/wellnest-mediatation
SUMMARY:WellNest Mediatation
DESCRIPTION:Unwind &amp\; Realign: A Sensory Meditation Experience for Real
 -Life Stress Relief\n\n90-minute sensory meditation class designed for dee
 p relaxation including calming aromatherapy\, breathwork\, gentle stretchi
 ng &amp\; guided visualisation. To end enjoy a herbal tea\, homemade flapj
 acks\, and quiet connection\n\nSpaces are limited.\n\nTickets £20: https
 ://bookwhen.com/wellnestmeditation?fbclid
ATTACH;FMTTYPE=image/jpeg:https://www.lovewokingham.co.uk/wp-content/uploa
 ds/2025/08/529614189_122132080784858309_912846818750550315_n.jpg
CATEGORIES:Mailchimp Events
LOCATION:The Cornerstone\, Norreys Avenue\, Wokingham\, RG40 1UE\, United K
 ingdom
X-APPLE-STRUCTURED-LOCATION;VALUE=URI;X-ADDRESS=Norreys Avenue\, Wokingham\
 , RG40 1UE\, United Kingdom;X-APPLE-RADIUS=100;X-TITLE=The Cornerstone:geo
 :0,0
END:VEVENT
BEGIN:VTIMEZONE
TZID:Europe/London
X-LIC-LOCATION:Europe/London
BEGIN:DAYLIGHT
DTSTART:20250330T020000
TZOFFSETFROM:+0000
TZOFFSETTO:+0100
TZNAME:BST
END:DAYLIGHT
END:VTIMEZONE
END:VCALENDAR