BEGIN:VCALENDAR
VERSION:2.0
PRODID:-//wp-events-plugin.com//7.2.2.1//EN
BEGIN:VEVENT
UID:286@lovewokingham.co.uk
DTSTART;TZID=Europe/London:20230611T100000
DTEND;TZID=Europe/London:20230611T140000
DTSTAMP:20230530T104833Z
URL:https://www.lovewokingham.co.uk/events/wokingham-bikeathon-2
SUMMARY:Wokingham Bikeathon
DESCRIPTION:15\, 25\, 35 & 50 mile routes
ATTACH;FMTTYPE=image/jpeg:https://www.lovewokingham.co.uk/wp-content/uploa
 ds/2023/05/bike.jpg
CATEGORIES:Mailchimp Events
LOCATION:Cantley Playing Fields\, Twyford Road\, Wokingham\, Berkshire\, RG
 40 5QG\, England\, United Kingdom
GEO:51.42147;-0.840813
X-APPLE-STRUCTURED-LOCATION;VALUE=URI;X-ADDRESS=Twyford Road\, Wokingham\, 
 Berkshire\, RG40 5QG\, England\, United Kingdom;X-APPLE-RADIUS=100;X-TITLE
 =Cantley Playing Fields:geo:51.42147,-0.840813
END:VEVENT
BEGIN:VTIMEZONE
TZID:Europe/London
X-LIC-LOCATION:Europe/London
BEGIN:DAYLIGHT
DTSTART:20230326T020000
TZOFFSETFROM:+0000
TZOFFSETTO:+0100
TZNAME:BST
END:DAYLIGHT
END:VTIMEZONE
END:VCALENDAR