BEGIN:VCALENDAR
VERSION:2.0
PRODID:-//wp-events-plugin.com//7.2.2.1//EN
BEGIN:VEVENT
UID:520@lovewokingham.co.uk
DTSTART;TZID=Europe/London:20241019T000000
DTEND;TZID=Europe/London:20241020T000000
DTSTAMP:20240829T084800Z
URL:https://www.lovewokingham.co.uk/events/wokingham-childrens-book-festiv
 al-4
SUMMARY:Wokingham Children's Book Festival
DESCRIPTION:A fantastic weekend awaits with 13 authors\, story tellers and 
 illustrators here in Wokingham.\n\nThere'll be many fun topics to explore\
 , creative processes to learn\, and artists on hand to help children and t
 eens bring stories to life.\n\nThe book festival weekend starts with some 
 theatrical story telling over at the Carnival Hub\, so whether it’s read
 ing\, writing or illustrating that grabs you\, we urge you to plan\nahead 
 and pre-book the sessions you’d like to attend.\n\nSessions in both Woki
 ngham Town Hall and Wokingham Library/Carnival Hub\n\nFor details of who's
  coming and to book tickets: https://wokingham-tc.gov.uk/bookfest/\n\nTic
 kets usually £3\, but there's an early bird special with 15% off until Se
 ptember 15th
ATTACH;FMTTYPE=image/jpeg:https://www.lovewokingham.co.uk/wp-content/uploa
 ds/2024/02/bOOK-FESTIVAL-LOGO-FOR-A-CIRCLE.png
CATEGORIES:Mailchimp Events
LOCATION:Wokingham Town Hall\, Market Place\, Wokingham\, Berkshire\, RG40 
 1AS\, United Kingdom
X-APPLE-STRUCTURED-LOCATION;VALUE=URI;X-ADDRESS=Market Place\, Wokingham\, 
 Berkshire\, RG40 1AS\, United Kingdom;X-APPLE-RADIUS=100;X-TITLE=Wokingham
  Town Hall:geo:0,0
END:VEVENT
BEGIN:VTIMEZONE
TZID:Europe/London
X-LIC-LOCATION:Europe/London
BEGIN:DAYLIGHT
DTSTART:20240331T020000
TZOFFSETFROM:+0000
TZOFFSETTO:+0100
TZNAME:BST
END:DAYLIGHT
END:VTIMEZONE
END:VCALENDAR