BEGIN:VCALENDAR
VERSION:2.0
PRODID:-//wp-events-plugin.com//7.2.2.1//EN
BEGIN:VEVENT
UID:122@lovewokingham.co.uk
DTSTART;TZID=Europe/London:20220702T100000
DTEND;TZID=Europe/London:20220702T150000
DTSTAMP:20220525T132137Z
URL:https://www.lovewokingham.co.uk/events/wokingham-classic-car-show
SUMMARY:Wokingham Classic Car Show
DESCRIPTION:More than 100 classic/unusual/interesting cars/motorcycles 
ATTACH;FMTTYPE=image/jpeg:https://www.lovewokingham.co.uk/wp-content/uploa
 ds/2022/05/258435349_1330991434013580_7168572465509323624_n-e1653484725905
 .jpg
LOCATION:Elms Field\, Earle Cresent\, Wokingham\, RG40 1DE\, United Kingdom
X-APPLE-STRUCTURED-LOCATION;VALUE=URI;X-ADDRESS=Earle Cresent\, Wokingham\,
  RG40 1DE\, United Kingdom;X-APPLE-RADIUS=100;X-TITLE=Elms Field:geo:0,0
END:VEVENT
BEGIN:VTIMEZONE
TZID:Europe/London
X-LIC-LOCATION:Europe/London
BEGIN:DAYLIGHT
DTSTART:20220327T020000
TZOFFSETFROM:+0000
TZOFFSETTO:+0100
TZNAME:BST
END:DAYLIGHT
END:VTIMEZONE
END:VCALENDAR