BEGIN:VCALENDAR
VERSION:2.0
PRODID:-//wp-events-plugin.com//7.2.2.1//EN
BEGIN:VEVENT
UID:125@lovewokingham.co.uk
DTSTART;TZID=Europe/London;VALUE=DATE:20220827
DTEND;TZID=Europe/London;VALUE=DATE:20220830
DTSTAMP:20220525T165017Z
URL:https://www.lovewokingham.co.uk/events/wokingham-festival-2
SUMMARY:Wokingham Festival
DESCRIPTION:3 days of music and family friendly fun
ATTACH;FMTTYPE=image/jpeg:https://www.lovewokingham.co.uk/wp-content/uploa
 ds/2022/05/277174683_5061364040613315_5344325693635853899_n-e1653497360619
 .jpg
LOCATION:Cantley Playing Fields\, Twyford Road\, Wokingham\, Berkshire\, RG
 40 5QG\, England\, United Kingdom
GEO:51.42147;-0.840813
X-APPLE-STRUCTURED-LOCATION;VALUE=URI;X-ADDRESS=Twyford Road\, Wokingham\, 
 Berkshire\, RG40 5QG\, England\, United Kingdom;X-APPLE-RADIUS=100;X-TITLE
 =Cantley Playing Fields:geo:51.42147,-0.840813
END:VEVENT
BEGIN:VTIMEZONE
TZID:Europe/London
X-LIC-LOCATION:Europe/London
BEGIN:DAYLIGHT
DTSTART:20220327T020000
TZOFFSETFROM:+0000
TZOFFSETTO:+0100
TZNAME:BST
END:DAYLIGHT
END:VTIMEZONE
END:VCALENDAR