BEGIN:VCALENDAR
VERSION:2.0
PRODID:-//wp-events-plugin.com//7.2.2.1//EN
BEGIN:VEVENT
UID:890@lovewokingham.co.uk
DTSTART;TZID=Europe/London:20250823T111500
DTEND;TZID=Europe/London:20250825T223000
DTSTAMP:20250716T130504Z
URL:https://www.lovewokingham.co.uk/events/wokingham-festival-5
SUMMARY:Wokingham Festival
DESCRIPTION:Join us this August Bank Holiday Weekend for three days of exce
 llent live music\, delicious food and drink\, and a range of activities to
  keep the little o\n\nnes (and the not so little ones) entertained.\n\nGat
 es open at 11am each day\, and we close at 10:30pm on Saturday and Sunday\
 , with an earlier finish at 8pm on Bank Holiday Monday.\n\nAs always\, you
 ’ll find an exciting array of artists to entertain you\, as well as grea
 t food &amp\; drink\, a range of family entertainment\, trade stalls\, and
  all round fun.
ATTACH;FMTTYPE=image/jpeg:https://www.lovewokingham.co.uk/wp-content/uploa
 ds/2025/07/516612353_18378901849192435_9048315463081938053_n.jpg
CATEGORIES:Mailchimp Events
LOCATION:Cantley Playing Fields\, Twyford Road\, Wokingham\, Berkshire\, RG
 40 5QG\, England\, United Kingdom
GEO:51.42147;-0.840813
X-APPLE-STRUCTURED-LOCATION;VALUE=URI;X-ADDRESS=Twyford Road\, Wokingham\, 
 Berkshire\, RG40 5QG\, England\, United Kingdom;X-APPLE-RADIUS=100;X-TITLE
 =Cantley Playing Fields:geo:51.42147,-0.840813
END:VEVENT
BEGIN:VTIMEZONE
TZID:Europe/London
X-LIC-LOCATION:Europe/London
BEGIN:DAYLIGHT
DTSTART:20250330T020000
TZOFFSETFROM:+0000
TZOFFSETTO:+0100
TZNAME:BST
END:DAYLIGHT
END:VTIMEZONE
END:VCALENDAR