BEGIN:VCALENDAR
VERSION:2.0
PRODID:-//wp-events-plugin.com//7.2.2.1//EN
BEGIN:VEVENT
UID:87@lovewokingham.co.uk
DTSTART;TZID=Europe/London:20211106T170000
DTEND;TZID=Europe/London:20211106T220000
DTSTAMP:20211013T101450Z
URL:https://www.lovewokingham.co.uk/events/wokingham-fireworks-spectacular
 -2021
SUMMARY:Wokingham Fireworks Spectacular 2021
DESCRIPTION:Back with a BANG!
ATTACH;FMTTYPE=image/jpeg:https://www.lovewokingham.co.uk/wp-content/uploa
 ds/2021/09/fireworks-1.jpg
CATEGORIES:Mailchimp Events
LOCATION:Cantley Playing Fields\, Twyford Road\, Wokingham\, Berkshire\, RG
 40 5QG\, England\, United Kingdom
GEO:51.42147;-0.840813
X-APPLE-STRUCTURED-LOCATION;VALUE=URI;X-ADDRESS=Twyford Road\, Wokingham\, 
 Berkshire\, RG40 5QG\, England\, United Kingdom;X-APPLE-RADIUS=100;X-TITLE
 =Cantley Playing Fields:geo:51.42147,-0.840813
END:VEVENT
BEGIN:VTIMEZONE
TZID:Europe/London
X-LIC-LOCATION:Europe/London
BEGIN:STANDARD
DTSTART:20211031T010000
TZOFFSETFROM:+0100
TZOFFSETTO:+0000
TZNAME:GMT
END:STANDARD
END:VTIMEZONE
END:VCALENDAR