BEGIN:VCALENDAR
VERSION:2.0
PRODID:-//wp-events-plugin.com//7.2.2.1//EN
BEGIN:VEVENT
UID:808@lovewokingham.co.uk
DTSTART;TZID=Europe/London:20250716T100000
DTEND;TZID=Europe/London:20250716T150000
DTSTAMP:20250318T124248Z
URL:https://www.lovewokingham.co.uk/events/wokingham-lions-swimathon-2025
SUMMARY:Wokingham Lions Swimathon 2025
DESCRIPTION:Now in its second year\, the Wokingham Lions Swimathon!\nA chan
 ce for you to raise funds for your school or favourite charity by swimming
  in Wokingham's new 6 lane\, 25 meter Carnival Pool!\nThe Wokingham Swimat
 hon is an event for all ages and swimming abilities in which teams of up t
 o 8 persons can swim in relay and raise money for their favourite cause.\n
 The Swimathon is designed to be a fun event - it’s not a race.\nYou’ll
  be swimming with family\, friends or colleagues while raising money for g
 ood causes. What’s not to like!\nMinimum age 8 years. Note that a Parent
 al/Guardian consent form has to be completed for all Junior swimmers aged 
 sixteen or under on day of the Swimathon.\n\nSign up: https://www.trybook
 ing.com/uk/events/landing/74712?embed
ATTACH;FMTTYPE=image/jpeg:https://www.lovewokingham.co.uk/wp-content/uploa
 ds/2025/03/484853095_1066505338850579_2663371929888792389_n.jpg
CATEGORIES:Mailchimp Events
LOCATION:The Carnival Hub\, Wellington Road \, Wokingham\, RG40 2AF\, Unite
 d Kingdom
X-APPLE-STRUCTURED-LOCATION;VALUE=URI;X-ADDRESS=Wellington Road \, Wokingha
 m\, RG40 2AF\, United Kingdom;X-APPLE-RADIUS=100;X-TITLE=The Carnival Hub:
 geo:0,0
END:VEVENT
BEGIN:VTIMEZONE
TZID:Europe/London
X-LIC-LOCATION:Europe/London
BEGIN:DAYLIGHT
DTSTART:20250330T020000
TZOFFSETFROM:+0000
TZOFFSETTO:+0100
TZNAME:BST
END:DAYLIGHT
END:VTIMEZONE
END:VCALENDAR