BEGIN:VCALENDAR
VERSION:2.0
PRODID:-//wp-events-plugin.com//7.2.2.1//EN
BEGIN:VEVENT
UID:246@lovewokingham.co.uk
DTSTART;TZID=Europe/London:20230501T100000
DTEND;TZID=Europe/London:20230501T170000
DTSTAMP:20230425T084524Z
URL:https://www.lovewokingham.co.uk/events/wokingham-may-fayre-2
SUMMARY:Wokingham May Fayre
DESCRIPTION:Family fun from Market Place to Elms Field
ATTACH;FMTTYPE=image/jpeg:https://www.lovewokingham.co.uk/wp-content/uploa
 ds/2023/04/May-Fayre-Monday-May-1st-10am-5pm.png
CATEGORIES:Mailchimp Events
LOCATION:Wokingham Market\, Market Place\, Wokingham\, Berkshire\, RG401AS\
 , United Kingdom
GEO:51.410144;-0.833551
X-APPLE-STRUCTURED-LOCATION;VALUE=URI;X-ADDRESS=Market Place\, Wokingham\, 
 Berkshire\, RG401AS\, United Kingdom;X-APPLE-RADIUS=100;X-TITLE=Wokingham 
 Market:geo:51.410144,-0.833551
END:VEVENT
BEGIN:VTIMEZONE
TZID:Europe/London
X-LIC-LOCATION:Europe/London
BEGIN:DAYLIGHT
DTSTART:20230326T020000
TZOFFSETFROM:+0000
TZOFFSETTO:+0100
TZNAME:BST
END:DAYLIGHT
END:VTIMEZONE
END:VCALENDAR