BEGIN:VCALENDAR
VERSION:2.0
PRODID:-//wp-events-plugin.com//7.2.2.1//EN
BEGIN:VEVENT
UID:972@lovewokingham.co.uk
DTSTART;TZID=Europe/London:20251204T190000
DTEND;TZID=Europe/London:20251204T210000
DTSTAMP:20251119T121657Z
URL:https://www.lovewokingham.co.uk/events/wokingham-paint-night-hushed-in
 -white
SUMMARY:Wokingham Paint Night - Hushed in White
DESCRIPTION:Paint your very own Winter Wonderland this Christmas! Join us a
 t The Oakingham Belle\, Wokingham for a cosy\, creative evening full of fe
 stive fun and laughter. Perfect for beginners — no experience needed!\n\
 nTickets: £30 per person https://www.brushandtipple.co.uk/events/wokingha
 m-paint-night-hushed-in-white\nStep-by-step painting guidance – perfect 
 for all abilities!\nAll materials provided – just bring your creative en
 ergy!\nDrinks available to purchase from the bar to fuel your creativity\n
 Take home your own magical winter artwork to treasure\nWhether you’re pl
 anning a Christmas night out with friends\, a family get-together\, or a w
 ork festive treat\, this event is the perfect way to get into the holiday 
 spirit!
ATTACH;FMTTYPE=image/jpeg:https://www.lovewokingham.co.uk/wp-content/uploa
 ds/2025/11/561460369_1112662991019596_771135417252063552_n.jpg
CATEGORIES:Mailchimp Events
LOCATION:Oakingham Belle\, Oaks Avenue\, Wokingham\, United Kingdom
GEO:51.414845;-0.805297
X-APPLE-STRUCTURED-LOCATION;VALUE=URI;X-ADDRESS=Oaks Avenue\, Wokingham\, U
 nited Kingdom;X-APPLE-RADIUS=100;X-TITLE=Oakingham Belle:geo:51.414845,-0.
 805297
END:VEVENT
BEGIN:VTIMEZONE
TZID:Europe/London
X-LIC-LOCATION:Europe/London
BEGIN:STANDARD
DTSTART:20251026T010000
TZOFFSETFROM:+0100
TZOFFSETTO:+0000
TZNAME:GMT
END:STANDARD
END:VTIMEZONE
END:VCALENDAR