BEGIN:VCALENDAR
VERSION:2.0
PRODID:-//wp-events-plugin.com//7.2.2.1//EN
BEGIN:VEVENT
UID:932@lovewokingham.co.uk
DTSTART;TZID=Europe/London:20251229T180000
DTEND;TZID=Europe/London:20251230T204500
DTSTAMP:20250909T135625Z
URL:https://www.lovewokingham.co.uk/events/wokingham-panto-jack-the-beanst
 alk
SUMMARY:Wokingham Panto- Jack & the Beanstalk
DESCRIPTION:Christmas 2025 - Wokingham Pantomime Group presents Jack and th
 e Beanstalk.\n\nJoin us on a magical\, musical\, and hilarious adventure i
 n this seasonal show for all the family!\n\nThe perfect panto for a family
  outing - guaranteed to entertain everyone from young to old!\n\nMonday 29
 th December show at 6pm\n\nTuesday 30th December show at both 2pm and 6pm\
 n\nTickets £17-£22 https://www.ticketsource.co.uk/whats-on/wokingham/th
 e-whitty-theatre
ATTACH;FMTTYPE=image/jpeg:https://www.lovewokingham.co.uk/wp-content/uploa
 ds/2025/09/522169661_1320788600053272_7900716986411844162_n.jpg
CATEGORIES:Mailchimp Events
LOCATION:The Whitty Theatre\, Luckley Road\, Wokingham\, Berkshire\, RG403E
 U\, United Kingdom
GEO:51.398838;-0.839821
X-APPLE-STRUCTURED-LOCATION;VALUE=URI;X-ADDRESS=Luckley Road\, Wokingham\, 
 Berkshire\, RG403EU\, United Kingdom;X-APPLE-RADIUS=100;X-TITLE=The Whitty
  Theatre:geo:51.398838,-0.839821
END:VEVENT
BEGIN:VTIMEZONE
TZID:Europe/London
X-LIC-LOCATION:Europe/London
BEGIN:STANDARD
DTSTART:20251026T010000
TZOFFSETFROM:+0100
TZOFFSETTO:+0000
TZNAME:GMT
END:STANDARD
END:VTIMEZONE
END:VCALENDAR