BEGIN:VCALENDAR
VERSION:2.0
PRODID:-//wp-events-plugin.com//7.2.2.1//EN
BEGIN:VEVENT
UID:61@lovewokingham.co.uk
DTSTART;TZID=Europe/London:20210710T120000
DTEND;TZID=Europe/London:20210710T160000
DTSTAMP:20210630T144232Z
URL:https://www.lovewokingham.co.uk/events/wokingham-pride-picnic
SUMMARY:Wokingham Pride Picnic
DESCRIPTION:The event is for everyone in the community who wants to show th
 eir support for Wokingham Pride and our local LGBTQ+ community
ATTACH;FMTTYPE=image/jpeg:https://www.lovewokingham.co.uk/wp-content/uploa
 ds/2021/06/Copy-of-Copy-of-Untitled-27.png
CATEGORIES:Mailchimp Events
LOCATION:Elms Field\, Elms Road\, Wokingham\, Berkshire\, RG40 2NL\, United
  Kingdom
X-APPLE-STRUCTURED-LOCATION;VALUE=URI;X-ADDRESS=Elms Road\, Wokingham\, Ber
 kshire\, RG40 2NL\, United Kingdom;X-APPLE-RADIUS=100;X-TITLE=Elms Field:g
 eo:0,0
END:VEVENT
BEGIN:VTIMEZONE
TZID:Europe/London
X-LIC-LOCATION:Europe/London
BEGIN:DAYLIGHT
DTSTART:20210328T020000
TZOFFSETFROM:+0000
TZOFFSETTO:+0100
TZNAME:BST
END:DAYLIGHT
END:VTIMEZONE
END:VCALENDAR