BEGIN:VCALENDAR
VERSION:2.0
PRODID:-//wp-events-plugin.com//7.2.2.1//EN
BEGIN:VEVENT
UID:619@lovewokingham.co.uk
DTSTART;TZID=Europe/London:20240810T100000
DTEND;TZID=Europe/London:20240810T123000
DTSTAMP:20240801T101848Z
URL:https://www.lovewokingham.co.uk/events/wokingham-repair-cafe-3
SUMMARY:Wokingham Repair Cafe
DESCRIPTION:Every second Saturday of the month.\n\nHave something to repair
 ? There's a form for that!  You don't have to complete it in advance\, bu
 t by sending this information before you attend the Repair Café they can 
 tell you whether they think it can be repaired\, and can plan to have the 
 right tools etc. ready if it can. You will receive an email confirming tha
 t this request has been logged. Please bring that email (on a mobile phone
 \, or printed out) with you - note that repairs are processed on an on-the
 -day first come first served basis.\nRepair Form:https://wokinghamrepairca
 fe.uk/request-a-repair\n\nGo to their website to see what items they cover
 : http://wokinghamrepaircafe.uk
ATTACH;FMTTYPE=image/jpeg:https://www.lovewokingham.co.uk/wp-content/uploa
 ds/2024/06/438145074_122139464864218249_801054333530313983_n.jpg
CATEGORIES:Mailchimp Events
LOCATION:All Saints Church\, Wiltshire Road\, Wokingham\, Berkshire\, RG401
 TN\, United Kingdom
GEO:51.412502;-0.829743
X-APPLE-STRUCTURED-LOCATION;VALUE=URI;X-ADDRESS=Wiltshire Road\, Wokingham\
 , Berkshire\, RG401TN\, United Kingdom;X-APPLE-RADIUS=100;X-TITLE=All Sain
 ts Church:geo:51.412502,-0.829743
END:VEVENT
BEGIN:VTIMEZONE
TZID:Europe/London
X-LIC-LOCATION:Europe/London
BEGIN:DAYLIGHT
DTSTART:20240331T020000
TZOFFSETFROM:+0000
TZOFFSETTO:+0100
TZNAME:BST
END:DAYLIGHT
END:VTIMEZONE
END:VCALENDAR