BEGIN:VCALENDAR
VERSION:2.0
PRODID:-//wp-events-plugin.com//7.2.2.1//EN
BEGIN:VEVENT
UID:766@lovewokingham.co.uk
DTSTART;TZID=Europe/London:20250220T194500
DTEND;TZID=Europe/London:20250222T221500
DTSTAMP:20250129T120318Z
URL:https://www.lovewokingham.co.uk/events/wokingham-theatre-a-tale-of-two
 -cities
SUMMARY:Wokingham Theatre - A tale of two cities
DESCRIPTION:“It was the best of times\, it was the worst of times...” W
 okingham Youth Theatre present an epic story of love\, sacrifice and redem
 ption\, interweaving one family’s intensely personal drama with the terr
 or and chaos of the French Revolution.\n\non 22nd there is also a 2pm perf
 ormance\n\nTickets £6.50 child / £11 adult https://uk.patronbase.com/_W
 okinghamTheatre/Productions
ATTACH;FMTTYPE=image/jpeg:https://www.lovewokingham.co.uk/wp-content/uploa
 ds/2025/01/WokinghamTheatre-prods-TOTC-sidebar-1720269001.jpg
CATEGORIES:Mailchimp Events
LOCATION:Wokingham Theatre\, Twyford Road\, Wokingham\, Berkshire\, RG405TU
 \, United Kingdom
GEO:51.420902;-0.840946
X-APPLE-STRUCTURED-LOCATION;VALUE=URI;X-ADDRESS=Twyford Road\, Wokingham\, 
 Berkshire\, RG405TU\, United Kingdom;X-APPLE-RADIUS=100;X-TITLE=Wokingham 
 Theatre:geo:51.420902,-0.840946
END:VEVENT
BEGIN:VTIMEZONE
TZID:Europe/London
X-LIC-LOCATION:Europe/London
BEGIN:STANDARD
DTSTART:20241027T010000
TZOFFSETFROM:+0100
TZOFFSETTO:+0000
TZNAME:GMT
END:STANDARD
END:VTIMEZONE
END:VCALENDAR