BEGIN:VCALENDAR
VERSION:2.0
PRODID:-//wp-events-plugin.com//7.2.2.1//EN
BEGIN:VEVENT
UID:767@lovewokingham.co.uk
DTSTART;TZID=Europe/London:20250501T194500
DTEND;TZID=Europe/London:20250510T221500
DTSTAMP:20250129T120716Z
URL:https://www.lovewokingham.co.uk/events/wokingham-theatre-home-im-darli
 ng
SUMMARY:Wokingham Theatre - Home\, I'm Darling
DESCRIPTION:Home\, I’m Darling from Laura Wade is a dark comedy about sex
 \, cake and the quest to be the perfect 1950s housewife.\n\nTickets £16 
 https://uk.patronbase.com/_WokinghamTheatre/Productions
ATTACH;FMTTYPE=image/jpeg:https://www.lovewokingham.co.uk/wp-content/uploa
 ds/2025/01/WokinghamTheatre-prods-HID-sidebar-1715445174.jpg
CATEGORIES:Mailchimp Events
LOCATION:Wokingham Theatre\, Twyford Road\, Wokingham\, Berkshire\, RG405TU
 \, United Kingdom
GEO:51.420902;-0.840946
X-APPLE-STRUCTURED-LOCATION;VALUE=URI;X-ADDRESS=Twyford Road\, Wokingham\, 
 Berkshire\, RG405TU\, United Kingdom;X-APPLE-RADIUS=100;X-TITLE=Wokingham 
 Theatre:geo:51.420902,-0.840946
END:VEVENT
BEGIN:VTIMEZONE
TZID:Europe/London
X-LIC-LOCATION:Europe/London
BEGIN:DAYLIGHT
DTSTART:20250330T020000
TZOFFSETFROM:+0000
TZOFFSETTO:+0100
TZNAME:BST
END:DAYLIGHT
END:VTIMEZONE
END:VCALENDAR