BEGIN:VCALENDAR
VERSION:2.0
PRODID:-//wp-events-plugin.com//7.2.2.1//EN
BEGIN:VEVENT
UID:765@lovewokingham.co.uk
DTSTART;TZID=Europe/London:20250319T194500
DTEND;TZID=Europe/London:20250327T221500
DTSTAMP:20250129T115937Z
URL:https://www.lovewokingham.co.uk/events/wokingham-theatre-pressure
SUMMARY:Wokingham Theatre - Pressure
DESCRIPTION:This gripping play\, set in June 1944\, follows the pivotal dec
 isions that shaped the course of history.\n\n- The performance on 19th Mar
 ch is supporting The Link Visiting Scheme here in Wokingham!  Tickets are
  £16 each\, and can be booked by contacting liz.mcdaniel@linkvisiting.org
 .\n\nFpor all tickets for 20th to 27th March\, tickets are £16 available 
 from: https://uk.patronbase.com/_WokinghamTheatre/Productions
ATTACH;FMTTYPE=image/jpeg:https://www.lovewokingham.co.uk/wp-content/uploa
 ds/2025/01/Square-4-700x700-1.jpg
CATEGORIES:Mailchimp Events
LOCATION:Wokingham Theatre\, Twyford Road\, Wokingham\, Berkshire\, RG405TU
 \, United Kingdom
GEO:51.420902;-0.840946
X-APPLE-STRUCTURED-LOCATION;VALUE=URI;X-ADDRESS=Twyford Road\, Wokingham\, 
 Berkshire\, RG405TU\, United Kingdom;X-APPLE-RADIUS=100;X-TITLE=Wokingham 
 Theatre:geo:51.420902,-0.840946
END:VEVENT
BEGIN:VTIMEZONE
TZID:Europe/London
X-LIC-LOCATION:Europe/London
BEGIN:STANDARD
DTSTART:20241027T010000
TZOFFSETFROM:+0100
TZOFFSETTO:+0000
TZNAME:GMT
END:STANDARD
END:VTIMEZONE
END:VCALENDAR