BEGIN:VCALENDAR
VERSION:2.0
PRODID:-//wp-events-plugin.com//7.2.2.1//EN
BEGIN:VEVENT
UID:134@lovewokingham.co.uk
DTSTART;TZID=Europe/London:20221211T110000
DTEND;TZID=Europe/London:20221211T150000
DTSTAMP:20220929T125257Z
URL:https://www.lovewokingham.co.uk/events/wokingham-vegan-market-15
SUMMARY:Wokingham Vegan Market
DESCRIPTION:Street Food\, Gifts & Goodies
ATTACH;FMTTYPE=image/jpeg:https://www.lovewokingham.co.uk/wp-content/uploa
 ds/2022/05/247048850_4455818181153166_2228780852157343000_n.jpg
END:VEVENT
BEGIN:VTIMEZONE
TZID:Europe/London
X-LIC-LOCATION:Europe/London
BEGIN:STANDARD
DTSTART:20221030T010000
TZOFFSETFROM:+0100
TZOFFSETTO:+0000
TZNAME:GMT
END:STANDARD
END:VTIMEZONE
END:VCALENDAR