BEGIN:VCALENDAR
VERSION:2.0
PRODID:-//wp-events-plugin.com//7.2.2.1//EN
BEGIN:VEVENT
UID:169@lovewokingham.co.uk
DTSTART;TZID=Europe/London:20230409T100000
DTEND;TZID=Europe/London:20230409T140000
DTSTAMP:20221220T160607Z
URL:https://www.lovewokingham.co.uk/events/wokingham-vegan-market-19
SUMMARY:Wokingham Vegan Market
DESCRIPTION:Food\, yummy cakes\, natural skincare\, eco-friendly gifts 
ATTACH;FMTTYPE=image/jpeg:https://www.lovewokingham.co.uk/wp-content/uploa
 ds/2022/12/vegan-market.jpg
CATEGORIES:Mailchimp Events
LOCATION:Wokingham Market\, Market Place\, Wokingham\, Berkshire\, RG401AS\
 , United Kingdom
GEO:51.410144;-0.833551
X-APPLE-STRUCTURED-LOCATION;VALUE=URI;X-ADDRESS=Market Place\, Wokingham\, 
 Berkshire\, RG401AS\, United Kingdom;X-APPLE-RADIUS=100;X-TITLE=Wokingham 
 Market:geo:51.410144,-0.833551
END:VEVENT
BEGIN:VTIMEZONE
TZID:Europe/London
X-LIC-LOCATION:Europe/London
BEGIN:DAYLIGHT
DTSTART:20230326T020000
TZOFFSETFROM:+0000
TZOFFSETTO:+0100
TZNAME:BST
END:DAYLIGHT
END:VTIMEZONE
END:VCALENDAR