BEGIN:VCALENDAR
VERSION:2.0
PRODID:-//wp-events-plugin.com//7.2.2.1//EN
BEGIN:VEVENT
UID:53@lovewokingham.co.uk
DTSTART;TZID=Europe/London:20211010T100000
DTEND;TZID=Europe/London:20211011T140000
DTSTAMP:20210506T095740Z
URL:https://www.lovewokingham.co.uk/events/wokingham-vegan-market-2021-10-
 10
SUMMARY:Wokingham Vegan Market
DESCRIPTION:Delicious food\, yummy cakes\, natural skincare\, eco-friendly 
 gifts and much more
ATTACH;FMTTYPE=image/jpeg:https://www.lovewokingham.co.uk/wp-content/uploa
 ds/2021/05/twitterveganimage.png
CATEGORIES:Mailchimp Events
LOCATION:Wokingham Market\, Market Place\, Wokingham\, Berkshire\, RG401AS\
 , United Kingdom
GEO:51.410144;-0.833551
X-APPLE-STRUCTURED-LOCATION;VALUE=URI;X-ADDRESS=Market Place\, Wokingham\, 
 Berkshire\, RG401AS\, United Kingdom;X-APPLE-RADIUS=100;X-TITLE=Wokingham 
 Market:geo:51.410144,-0.833551
END:VEVENT
BEGIN:VTIMEZONE
TZID:Europe/London
X-LIC-LOCATION:Europe/London
BEGIN:DAYLIGHT
DTSTART:20210328T020000
TZOFFSETFROM:+0000
TZOFFSETTO:+0100
TZNAME:BST
END:DAYLIGHT
END:VTIMEZONE
END:VCALENDAR