BEGIN:VCALENDAR
VERSION:2.0
PRODID:-//wp-events-plugin.com//7.2.2.1//EN
BEGIN:VEVENT
UID:54@lovewokingham.co.uk
DTSTART;TZID=Europe/London:20211114T100000
DTEND;TZID=Europe/London:20211115T140000
DTSTAMP:20210506T095740Z
URL:https://www.lovewokingham.co.uk/events/wokingham-vegan-market-2021-11-
 14
SUMMARY:Wokingham Vegan Market
DESCRIPTION:Delicious food\, yummy cakes\, natural skincare\, eco-friendly 
 gifts and much more
ATTACH;FMTTYPE=image/jpeg:https://www.lovewokingham.co.uk/wp-content/uploa
 ds/2021/05/twitterveganimage.png
CATEGORIES:Mailchimp Events
LOCATION:Wokingham Market\, Market Place\, Wokingham\, Berkshire\, RG401AS\
 , United Kingdom
GEO:51.410144;-0.833551
X-APPLE-STRUCTURED-LOCATION;VALUE=URI;X-ADDRESS=Market Place\, Wokingham\, 
 Berkshire\, RG401AS\, United Kingdom;X-APPLE-RADIUS=100;X-TITLE=Wokingham 
 Market:geo:51.410144,-0.833551
END:VEVENT
BEGIN:VTIMEZONE
TZID:Europe/London
X-LIC-LOCATION:Europe/London
BEGIN:STANDARD
DTSTART:20211031T010000
TZOFFSETFROM:+0100
TZOFFSETTO:+0000
TZNAME:GMT
END:STANDARD
END:VTIMEZONE
END:VCALENDAR