BEGIN:VCALENDAR
VERSION:2.0
PRODID:-//wp-events-plugin.com//7.2.2.1//EN
BEGIN:VEVENT
UID:265@lovewokingham.co.uk
DTSTART;TZID=Europe/London:20230510T100000
DTEND;TZID=Europe/London:20230510T140000
DTSTAMP:20230427T110904Z
URL:https://www.lovewokingham.co.uk/events/wokingham-volunteer-fair
SUMMARY:Wokingham Volunteer Fair
DESCRIPTION:Find a role to suit you
ATTACH;FMTTYPE=image/jpeg:https://www.lovewokingham.co.uk/wp-content/uploa
 ds/2023/04/volunteerrecruitmentfair2023.png
CATEGORIES:Mailchimp Events
LOCATION:Wokingham Library\, Carnival Hub\, Wellington Road\, Wokingham\, B
 erkshire\, United Kingdom
X-APPLE-STRUCTURED-LOCATION;VALUE=URI;X-ADDRESS=Carnival Hub\, Wellington R
 oad\, Wokingham\, Berkshire\, United Kingdom;X-APPLE-RADIUS=100;X-TITLE=Wo
 kingham Library:geo:0,0
END:VEVENT
BEGIN:VTIMEZONE
TZID:Europe/London
X-LIC-LOCATION:Europe/London
BEGIN:DAYLIGHT
DTSTART:20230326T020000
TZOFFSETFROM:+0000
TZOFFSETTO:+0100
TZNAME:BST
END:DAYLIGHT
END:VTIMEZONE
END:VCALENDAR