BEGIN:VCALENDAR
VERSION:2.0
PRODID:-//wp-events-plugin.com//7.2.2.1//EN
BEGIN:VEVENT
UID:936@lovewokingham.co.uk
DTSTART;TZID=Europe/London:20251012T090000
DTEND;TZID=Europe/London:20251012T170000
DTSTAMP:20250926T121309Z
URL:https://www.lovewokingham.co.uk/events/wokingham-walk-4
SUMMARY:Wokingham Walk
DESCRIPTION:The Wokingham Walk is a charity walk in and around Wokingham ar
 ranged by Wokingham Lions - there are 5\, 10 or 15 mile routes.\nAll proce
 eds from Wokingham Walk entry fees will be used to support local charitabl
 e causes.\nThe event will start in Elms Field\, Wokingham with a rolling s
 tart time from 9am until 10.30am.\nThe finish will be manned until 5pm so 
 there is no need to rush.\nFull details of the event  https://www.woking
 hamwalk.co.uk\nIf you'd like to raise funds for Wokingham Lions by getting
  sponsored you can setup a JustGiving page here: https://www.justgiving.c
 om/sso?context=consumer&amp\;actionType=set_profile&amp\;returnUrl=https%3
 A%2F%2Fwww.justgiving.com to collect sponsorship.\nIf you are raising fund
 s for another charity through JustGiving don't forget you can link your ef
 forts to the event - just select Taking Part In An Event after you have se
 lected your charity and search for "Wokingham Walk". Message us if you hav
 e any problems.
ATTACH;FMTTYPE=image/jpeg:https://www.lovewokingham.co.uk/wp-content/uploa
 ds/2025/09/491185388_1107785291392913_7170235381404645224_n.jpg
CATEGORIES:Mailchimp Events
LOCATION:Elms Field\, Earle Cresent\, Wokingham\, RG40 1DE\, United Kingdom
X-APPLE-STRUCTURED-LOCATION;VALUE=URI;X-ADDRESS=Earle Cresent\, Wokingham\,
  RG40 1DE\, United Kingdom;X-APPLE-RADIUS=100;X-TITLE=Elms Field:geo:0,0
END:VEVENT
BEGIN:VTIMEZONE
TZID:Europe/London
X-LIC-LOCATION:Europe/London
BEGIN:DAYLIGHT
DTSTART:20250330T020000
TZOFFSETFROM:+0000
TZOFFSETTO:+0100
TZNAME:BST
END:DAYLIGHT
END:VTIMEZONE
END:VCALENDAR