BEGIN:VCALENDAR
VERSION:2.0
PRODID:-//wp-events-plugin.com//7.2.2.1//EN
BEGIN:VEVENT
UID:103@lovewokingham.co.uk
DTSTART;TZID=Europe/London:20220508T090000
DTEND;TZID=Europe/London:20220508T170000
DTSTAMP:20220323T111533Z
URL:https://www.lovewokingham.co.uk/events/wokingham-walk-spring
SUMMARY:Wokingham Walk - Spring
DESCRIPTION:5\, 10 or 15 mile routes. All proceeds to local charitable caus
 es.
ATTACH;FMTTYPE=image/jpeg:https://www.lovewokingham.co.uk/wp-content/uploa
 ds/2022/03/wokywalk-e1648033906940.jpg
LOCATION:Elms Field\, Wellington Rd\, Wokingham\, Berkshire\, RG40 1BN\, Un
 ited Kingdom
GEO:51.409089;-0.8399
X-APPLE-STRUCTURED-LOCATION;VALUE=URI;X-ADDRESS=Wellington Rd\, Wokingham\,
  Berkshire\, RG40 1BN\, United Kingdom;X-APPLE-RADIUS=100;X-TITLE=Elms Fie
 ld:geo:51.409089,-0.8399
END:VEVENT
BEGIN:VTIMEZONE
TZID:Europe/London
X-LIC-LOCATION:Europe/London
BEGIN:DAYLIGHT
DTSTART:20220327T020000
TZOFFSETFROM:+0000
TZOFFSETTO:+0100
TZNAME:BST
END:DAYLIGHT
END:VTIMEZONE
END:VCALENDAR