BEGIN:VCALENDAR
VERSION:2.0
PRODID:-//wp-events-plugin.com//7.2.2.1//EN
BEGIN:VEVENT
UID:55@lovewokingham.co.uk
DTSTART;TZID=Europe/London:20210523T090000
DTEND;TZID=Europe/London:20210523T170000
DTSTAMP:20210506T101656Z
URL:https://www.lovewokingham.co.uk/events/wokingham-walk
SUMMARY:Wokingham Walk
DESCRIPTION:A charity walk in and around Wokingham arranged by Wokingham Li
 ons - with 5\, 10 or 15 mile routes.
ATTACH;FMTTYPE=image/jpeg:https://www.lovewokingham.co.uk/wp-content/uploa
 ds/2021/05/Copy-of-Copy-of-Untitled-20.png
CATEGORIES:Mailchimp Events
LOCATION:Elms Field\, Elms Road\, Wokingham\, Berkshire\, RG40 2NL\, United
  Kingdom
X-APPLE-STRUCTURED-LOCATION;VALUE=URI;X-ADDRESS=Elms Road\, Wokingham\, Ber
 kshire\, RG40 2NL\, United Kingdom;X-APPLE-RADIUS=100;X-TITLE=Elms Field:g
 eo:0,0
END:VEVENT
BEGIN:VTIMEZONE
TZID:Europe/London
X-LIC-LOCATION:Europe/London
BEGIN:DAYLIGHT
DTSTART:20210328T020000
TZOFFSETFROM:+0000
TZOFFSETTO:+0100
TZNAME:BST
END:DAYLIGHT
END:VTIMEZONE
END:VCALENDAR