BEGIN:VCALENDAR
VERSION:2.0
PRODID:-//wp-events-plugin.com//7.2.2.1//EN
BEGIN:VEVENT
UID:145@lovewokingham.co.uk
DTSTART;TZID=Europe/London:20221127T100000
DTEND;TZID=Europe/London:20221127T163000
DTSTAMP:20221013T134430Z
URL:https://www.lovewokingham.co.uk/events/wokingham-winter-carnival-2022
SUMMARY:Wokingham Winter Carnival 2022
DESCRIPTION:Fun Fair\, Entertainment\, Stalls\, Food
ATTACH;FMTTYPE=image/jpeg:https://www.lovewokingham.co.uk/wp-content/uploa
 ds/2022/10/297312350_3520757754866863_3050956182124539630_n-e1665668541151
 .jpg
CATEGORIES:Mailchimp Events
LOCATION:Wokingham Market\, Market Place\, Wokingham\, Berkshire\, RG401AS\
 , United Kingdom
GEO:51.410144;-0.833551
X-APPLE-STRUCTURED-LOCATION;VALUE=URI;X-ADDRESS=Market Place\, Wokingham\, 
 Berkshire\, RG401AS\, United Kingdom;X-APPLE-RADIUS=100;X-TITLE=Wokingham 
 Market:geo:51.410144,-0.833551
END:VEVENT
BEGIN:VTIMEZONE
TZID:Europe/London
X-LIC-LOCATION:Europe/London
BEGIN:STANDARD
DTSTART:20221030T010000
TZOFFSETFROM:+0100
TZOFFSETTO:+0000
TZNAME:GMT
END:STANDARD
END:VTIMEZONE
END:VCALENDAR