BEGIN:VCALENDAR
VERSION:2.0
PRODID:-//wp-events-plugin.com//7.2.2.1//EN
BEGIN:VEVENT
UID:446@lovewokingham.co.uk
DTSTART;TZID=Europe/London:20241124T103000
DTEND;TZID=Europe/London:20241124T173000
DTSTAMP:20231212T100956Z
URL:https://www.lovewokingham.co.uk/events/wokingham-winter-carnival-2024
SUMMARY:Wokingham Winter Carnival 2024
DESCRIPTION:Fun Fair\, Stalls\, Entertainment
ATTACH;FMTTYPE=image/jpeg:https://www.lovewokingham.co.uk/wp-content/uploa
 ds/2023/12/406226378_736623245159275_711970105158197166_n.jpg
CATEGORIES:Mailchimp Events
LOCATION:Wokingham Market Place\, Market Place\, Wokingham \, Berkshire\, R
 G40 1AS\, United Kingdom
X-APPLE-STRUCTURED-LOCATION;VALUE=URI;X-ADDRESS=Market Place\, Wokingham \,
  Berkshire\, RG40 1AS\, United Kingdom;X-APPLE-RADIUS=100;X-TITLE=Wokingha
 m Market Place:geo:0,0
END:VEVENT
BEGIN:VTIMEZONE
TZID:Europe/London
X-LIC-LOCATION:Europe/London
BEGIN:STANDARD
DTSTART:20241027T010000
TZOFFSETFROM:+0100
TZOFFSETTO:+0000
TZNAME:GMT
END:STANDARD
END:VTIMEZONE
END:VCALENDAR