BEGIN:VCALENDAR
VERSION:2.0
PRODID:-//wp-events-plugin.com//7.2.2.1//EN
BEGIN:VEVENT
UID:809@lovewokingham.co.uk
DTSTART;TZID=Europe/London:20251130T103000
DTEND;TZID=Europe/London:20251130T173000
DTSTAMP:20250318T124532Z
URL:https://www.lovewokingham.co.uk/events/wokingham-winter-carnival-3
SUMMARY:Wokingham Winter Carnival
DESCRIPTION:A fun day out for the whole family organised by Wokingham Lions
 .\nThe town is closed to traffic for the day so children can join in the f
 un in a totally safe environment.\nThere’s a whole host of street entert
 ainers\, music\, singing\, dancing and the fun of the fair with loads of d
 ifferent rides\, whether you’re young or old.\nSanta will be in his grot
 to and for lunch there are stalls offering an amazing choice of food and d
 rink.\nThere are stalls selling gifts too\, so why not get your Christmas 
 shopping sorted?\nFREE
ATTACH;FMTTYPE=image/jpeg:https://www.lovewokingham.co.uk/wp-content/uploa
 ds/2025/03/468206535_977346054420325_8886272172682096939_n.jpg
CATEGORIES:Mailchimp Events
LOCATION:Wokingham Town Hall\, Market Place\, Wokingham\, Berkshire\, RG40 
 1AS\, United Kingdom
X-APPLE-STRUCTURED-LOCATION;VALUE=URI;X-ADDRESS=Market Place\, Wokingham\, 
 Berkshire\, RG40 1AS\, United Kingdom;X-APPLE-RADIUS=100;X-TITLE=Wokingham
  Town Hall:geo:0,0
END:VEVENT
BEGIN:VTIMEZONE
TZID:Europe/London
X-LIC-LOCATION:Europe/London
BEGIN:STANDARD
DTSTART:20251026T010000
TZOFFSETFROM:+0100
TZOFFSETTO:+0000
TZNAME:GMT
END:STANDARD
END:VTIMEZONE
END:VCALENDAR